BEGIN:VCALENDAR
VERSION:2.0
PRODID:icalendar-ruby
CALSCALE:GREGORIAN
METHOD:PUBLISH
BEGIN:VEVENT
DTSTAMP:20260425T140043Z
UID:24-625780@mhumc.com
DTSTART:20260502T180000Z
DTEND:20260503T000000Z
CLASS:PUBLIC
CREATED:20260424T124800
DESCRIPTION:
LAST-MODIFIED:20260424T124800
LOCATION:
SUMMARY:Rewilding Day
URL;VALUE=URI:https://www.mhumc.com/events/rewilding-day/2026-05-02
ATTACH;FILENAME=Rewilding-Day-Flyer---New-Date.png;FMTTYPE=image/png:https:
 //dq5pwpg1q8ru0.cloudfront.net/2026/04/24/19/46/55/09face54-c0f0-4668-976e
 -1d1bd1a0b237/Rewilding-Day-Flyer---New-Date.png
END:VEVENT
END:VCALENDAR
