BEGIN:VCALENDAR
VERSION:2.0
PRODID:icalendar-ruby
CALSCALE:GREGORIAN
METHOD:PUBLISH
BEGIN:VEVENT
DTSTAMP:20260419T215051Z
UID:10-607456@mhumc.com
DTSTART:20261031T160000Z
DTEND:20261031T170000Z
CLASS:PUBLIC
CREATED:20260419T140025
DESCRIPTION:Open AA Meeting
LAST-MODIFIED:20260419T140025
LOCATION:Fellowship Hall
SUMMARY:Open AA Meeting
URL;VALUE=URI:https://www.mhumc.com/events/open-aa-meeting/2026-10-31
END:VEVENT
END:VCALENDAR
