BEGIN:VCALENDAR
VERSION:2.0
PRODID:icalendar-ruby
CALSCALE:GREGORIAN
METHOD:PUBLISH
BEGIN:VEVENT
DTSTAMP:20260419T200343Z
UID:10-606852@mhumc.com
DTSTART:20261024T160000Z
DTEND:20261024T170000Z
CLASS:PUBLIC
CREATED:20260419T101801
DESCRIPTION:Open AA Meeting
LAST-MODIFIED:20260419T101801
LOCATION:Fellowship Hall
SUMMARY:Open AA Meeting
URL;VALUE=URI:https://www.mhumc.com/events/open-aa-meeting/2026-10-24
END:VEVENT
END:VCALENDAR
